BEGIN:VCALENDAR
VERSION:2.0
PRODID:-//RIGHTHERE//CALENDARIZE IT V3.2//EN
BEGIN:VTIMEZONE
TZID:Europe/Zurich
BEGIN:STANDARD
DTSTART:20251026T010000
TZOFFSETFROM:+0200
TZOFFSETTO:+0100
TZNAME:CET
END:STANDARD
BEGIN:DAYLIGHT
DTSTART:20260329T010000
TZOFFSETFROM:+0100
TZOFFSETTO:+0200
TZNAME:CEST
END:DAYLIGHT
BEGIN:STANDARD
DTSTART:20261025T010000
TZOFFSETFROM:+0200
TZOFFSETTO:+0100
TZNAME:CET
END:STANDARD
END:VTIMEZONE
BEGIN:VEVENT
UID:21655-events@www.eglise-uttins-yverdon.ch
DTSTART;TZID=Europe/Zurich:20260614T100000
DTEND;TZID=Europe/Zurich:20260614T120000
DTSTAMP;TZID=Europe/Zurich:20260325T134924
SUMMARY:Culte de fin de catéchisme avec Bertrand Bourgeois
DESCRIPTION:Suivi d'un repas spaghettis
URL:https://www.eglise-uttins-yverdon.ch/events/culte-25_06_2023-3-3-2-3-2-
 3/
ORGANIZER;CN=Eglise des Uttins:
LOCATION:Rue des Uttins 16\, 1400 Yverdon-Les-Bains
END:VEVENT
END:VCALENDAR